BEGIN:VCALENDAR
VERSION:2.0
PRODID:-//wp-events-plugin.com//7.2.3.1//EN
TZID:Europe/Stockholm
X-WR-TIMEZONE:Europe/Stockholm
BEGIN:VEVENT
UID:2@motalabsk.se
DTSTART;TZID=Europe/Stockholm;VALUE=DATE:20240607
DTEND;TZID=Europe/Stockholm;VALUE=DATE:20240610
DTSTAMP:20240213T160638Z
URL:https://motalabsk.se/events/camping-tjej-halvvattern-2024/
SUMMARY:Camping Tjej-/Halvvättern 2024
DESCRIPTION:Välkommen till Motala Bågskytteklubbs temporära camping unde
 r Tjej-/Halvvättern 2024.\nVänligen skriv i kommentarsfältet ungefärli
 g tid Ni ankommer till oss.
ATTACH;FMTTYPE=image/jpeg:https://motalabsk.se/wp-content/uploads/2024/01/
 camping-ikon.jpg
LOCATION:Motala Bågskytteklubb\, Fålehagsgränd 10\, Motala\, 591 37\, Sv
 erige
GEO:58.521992;15.027547
X-APPLE-STRUCTURED-LOCATION;VALUE=URI;X-ADDRESS=Fålehagsgränd 10\, Motala
 \, 591 37\, Sverige;X-APPLE-RADIUS=100;X-TITLE=Motala Bågskytteklubb:geo:
 58.521992,15.027547
END:VEVENT
BEGIN:VTIMEZONE
TZID:Europe/Stockholm
X-LIC-LOCATION:Europe/Stockholm
BEGIN:DAYLIGHT
DTSTART:20240331T030000
TZOFFSETFROM:+0100
TZOFFSETTO:+0200
TZNAME:CEST
END:DAYLIGHT
END:VTIMEZONE
END:VCALENDAR